BEGIN:VCALENDAR
VERSION:2.0
PRODID:-//Lungarno Magazine - ECPv6.6.4.2//NONSGML v1.0//EN
CALSCALE:GREGORIAN
METHOD:PUBLISH
X-WR-CALNAME:Lungarno Magazine
X-ORIGINAL-URL:https://aneri.isialab.it/lungarno
X-WR-CALDESC:Eventi per Lungarno Magazine
REFRESH-INTERVAL;VALUE=DURATION:PT1H
X-Robots-Tag:noindex
X-PUBLISHED-TTL:PT1H
BEGIN:VTIMEZONE
TZID:Europe/Rome
BEGIN:DAYLIGHT
TZOFFSETFROM:+0100
TZOFFSETTO:+0200
TZNAME:CEST
DTSTART:20240331T010000
END:DAYLIGHT
BEGIN:STANDARD
TZOFFSETFROM:+0200
TZOFFSETTO:+0100
TZNAME:CET
DTSTART:20241027T010000
END:STANDARD
END:VTIMEZONE
BEGIN:VEVENT
DTSTART;TZID=Europe/Rome:20240829T210000
DTEND;TZID=Europe/Rome:20240829T230000
DTSTAMP:20260423T123122
CREATED:20240916T203705Z
LAST-MODIFIED:20240916T205525Z
UID:1249-1724965200-1724972400@aneri.isialab.it
SUMMARY:LE COPPIE | NUOVO CINEMA UNIVERSALE AL CONVENTINO
DESCRIPTION:Le coppie (1971)\, regia di Mario Monicelli\, Alberto Sordi\, Vittorio De Sica. \nGavino e Adelina Puddu\, due coniugi sardi emigrati a Torino decidono di comprare a rate un frigorifero. Giunto il momento di saldare il conto\, Gavino perde i soldi. Toverà i soldi con un espediente molto particolare. Un operaio metalmeccanico e la mogie vogliono festeggiare il decimo anniversario di nozze in un albergo di lusso\, frequentato da sovrani e da industriali. L’accoglienza che viene riservata loro è tutt’altro che ospitale. Due amanti si trovano bloccati in camera da un leone fuggito da un circo\, che sbarra la porta di casa.
URL:https://aneri.isialab.it/lungarno/agenda/le-coppie-nuovo-cinema-universale-al-conventino/
LOCATION:Il Conventino\, Via Giano della Bella 20\, Firenze\, 50124\, Italy
ATTACH;FMTTYPE=image/jpeg:https://aneri.isialab.it/lungarno/wp-content/uploads/2024/09/lecoppie.jpg
END:VEVENT
BEGIN:VEVENT
DTSTART;TZID=Europe/Rome:20240830T210000
DTEND;TZID=Europe/Rome:20240830T230000
DTSTAMP:20260423T123122
CREATED:20240916T202745Z
LAST-MODIFIED:20240916T202745Z
UID:1244-1725051600-1725058800@aneri.isialab.it
SUMMARY:FULMINACCI | BEAT FESTIVAL
DESCRIPTION:Il Beat Festival è uno dei festival toscani con il maggior numero di presenze di pubblico. Nato nel 2015 ha incrementato il proprio pubblico fino a superare le 130.000 presenze nell’edizione 2023. E’ un festival unico e originale che si svolge nel fantastico Parco di Serravalle proponendo un mix di contenuti: musica\, food\, showcases\, handmade market\, dj set e moltissimo altro. \nFulminacci è un cantautore italiano\, nato nel 1997 a Roma\, un artista di rottura\, spiazzante per la sua versatilità e per la sua brillantezza. Scrive\, arrangia e canta le sue canzoni e si presenta al mondo pubblicando nel 2019 “Borghese in borghese”\, “La Vita Veramente” e “Una Sera”. Nel 2021 partecipa alla 71^ edizione del Festival di Sanremo con il brano “Santa Marinella” (certificato Disco D’Oro da Fimi/GfK Italia)\, a cui segue l’uscita del suo secondo album\, “Tante Care Cose” (certificato oro). \nQuello tra Fulminacci e Beat è un connubio speciale visto che il cantautore ha lanciato il suo album d’esordio\, la Vita Veramente\, proprio sul palco del festival empolese nell’estate del 2019. \nI biglietti per il concerto di Fulminacci a Beat saranno in vendita dalle 18 di giovedì 25 Gennaio su www.ticketmaster.it\, www.ticketone.it e www.vivaticket.com \n 
URL:https://aneri.isialab.it/lungarno/agenda/fulminacci-beat-festival/
LOCATION:Parco di Serravalle\, Via Serravalle a S. Martino\, Empoli\, 50053\, Italy
ATTACH;FMTTYPE=image/jpeg:https://aneri.isialab.it/lungarno/wp-content/uploads/2024/09/FULMINACCI-beatfestival-Articolo.jpg
END:VEVENT
BEGIN:VEVENT
DTSTART;TZID=Europe/Rome:20240831T183000
DTEND;TZID=Europe/Rome:20240831T183000
DTSTAMP:20260423T123122
CREATED:20240916T201859Z
LAST-MODIFIED:20240916T201859Z
UID:1240-1725129000-1725129000@aneri.isialab.it
SUMMARY:A/WAY HOME | DANZA AL PARCO MEDICEO
DESCRIPTION:Fa tappa anche al Parco Mediceo di Pratolino\, sabato 31 Agosto alle 18.00\, la quinta edizione di Site Dance\, rassegna di danza itinerante con la direzione artistica Simona Bucci e Marika Errigo \nLa rassegna arriverà il 31 agosto alle ore 18.30 nello splendido Parco Mediceo di Pratolino a Vaglia\, animato da fontane\, grotte\, statue e straordinari giochi d’acqua\, con “A/way Home” di Carlos Aller\, in collaborazione con Cecilia Bartolino. Nello spettacolo siamo testimoni di come il superamento delle sfide rafforzi gli individui e metta in evidenza la parità di genere. \nDue personaggi mostrano uguale determinazione\, incarnando la fragilità e la resistenza contro le ingiustizie. Traendo ispirazione dai paesaggi urbani delle principali città del mondo\, “A/way Home” richiama la favola di “Lilli e il Vagabondo”. Il duetto\, interpretato dallo stesso coreografo e da Cecilia Bartolino\, sfida le norme di genere e le strutture gerarchiche che emarginano i meno privilegiati\, evidenziando la capacità femminile di offrire sostegno fisico ed emotivo agli uomini\, ma sottolineando al tempo stesso la necessità che gli uomini abbraccino la sensibilità e la vulnerabilità. \nI due artisti proseguono la loro indagine sulle complessità della società contemporanea. La storia mette in luce temi cocenti come l’emarginazione e la diseguaglianza economica e auspica una società in cui tutti siano trattati con dignità\, indipendentemente dal genere\, razza o classe. \nSite Dance è un progetto realizzato nell’ambito dell’Estate Fiorentina 2024 – iniziativa proposta nel Piano Operativo della Città di Firenze con il sostegno di Mic\, Regione Toscana\, Comune di Firenze\, Città Metropolitana e Fondazione CR Firenze. Dance Court è un progetto ideato per la Città Metropolitana di Firenze.
URL:https://aneri.isialab.it/lungarno/agenda/a-way-home-danza-al-parco-mediceo/
LOCATION:Parco Mediceo di Pratolino\, Via Fiorentina 276\, Pratolino (FI)\, 50036\, Italy
ATTACH;FMTTYPE=image/jpeg:https://aneri.isialab.it/lungarno/wp-content/uploads/2024/09/98-gigante-20giambologna-orizz-0-10.jpg
END:VEVENT
END:VCALENDAR