BEGIN:VCALENDAR
VERSION:2.0
PRODID:-//Lungarno Magazine - ECPv6.6.4.2//NONSGML v1.0//EN
CALSCALE:GREGORIAN
METHOD:PUBLISH
X-ORIGINAL-URL:https://aneri.isialab.it/lungarno
X-WR-CALDESC:Eventi per Lungarno Magazine
REFRESH-INTERVAL;VALUE=DURATION:PT1H
X-Robots-Tag:noindex
X-PUBLISHED-TTL:PT1H
BEGIN:VTIMEZONE
TZID:Europe/Rome
BEGIN:DAYLIGHT
TZOFFSETFROM:+0100
TZOFFSETTO:+0200
TZNAME:CEST
DTSTART:20240331T010000
END:DAYLIGHT
BEGIN:STANDARD
TZOFFSETFROM:+0200
TZOFFSETTO:+0100
TZNAME:CET
DTSTART:20241027T010000
END:STANDARD
END:VTIMEZONE
BEGIN:VEVENT
DTSTART;TZID=Europe/Rome:20240930T180000
DTEND;TZID=Europe/Rome:20240930T180000
DTSTAMP:20260423T104426
CREATED:20240916T140350Z
LAST-MODIFIED:20240916T141721Z
UID:1043-1727719200-1727719200@aneri.isialab.it
SUMMARY:CONFERENZA: RIVELAZIONI FIORENTINE - IMMENSO VASARI
DESCRIPTION:La dott.ssa Cristina Acidini\, storica dell’arte\, presidente dell’Opera di Santa Croce\, ci accompagnerà con il suo racconto nella vita del grande artista Giorgio Vasari \nRiprende il ciclo di conferenze “Rivelazioni fiorentine: incontri su arte\, storia e cultura di Firenze” curato dallo storico dell’arte Marco Betti e coordinato da Enrico Sartoni\, inaugurato il 12 giugno 2024\, che ci offre l’opportunità di esplorare la straordinaria e caleidoscopica storia di Firenze. \nParteciperà alla conferenza la dott.ssa Cristina Acidini: storica dell’arte\, presidente dell’Opera di Santa Croce\, della Fondazione Roberto Longhi della Fondazione Museo Casa Buonarroti e dell’Accademia delle Arti del Disegno. Commendatore dell’Ordine al Merito della Repubblica Italiana\, Cavaliere dell’ordine di arti e lettere della Repubblica Francese è stata insignita del Fiorino d’Oro.
URL:https://aneri.isialab.it/lungarno/agenda/conferenza-rivelazioni-fiorentine-immenso-vasari/
LOCATION:Biblioteca delle Oblate\, Via dell' Oriuolo\, 24\, Firenze\, 50122\, Italy
END:VEVENT
END:VCALENDAR