BEGIN:VCALENDAR
VERSION:2.0
PRODID:-//Lungarno Magazine - ECPv6.6.4.2//NONSGML v1.0//EN
CALSCALE:GREGORIAN
METHOD:PUBLISH
X-ORIGINAL-URL:https://aneri.isialab.it/lungarno
X-WR-CALDESC:Eventi per Lungarno Magazine
REFRESH-INTERVAL;VALUE=DURATION:PT1H
X-Robots-Tag:noindex
X-PUBLISHED-TTL:PT1H
BEGIN:VTIMEZONE
TZID:Europe/Rome
BEGIN:DAYLIGHT
TZOFFSETFROM:+0100
TZOFFSETTO:+0200
TZNAME:CEST
DTSTART:20240331T010000
END:DAYLIGHT
BEGIN:STANDARD
TZOFFSETFROM:+0200
TZOFFSETTO:+0100
TZNAME:CET
DTSTART:20241027T010000
END:STANDARD
END:VTIMEZONE
BEGIN:VEVENT
DTSTART;TZID=Europe/Rome:20240928T091500
DTEND;TZID=Europe/Rome:20240928T170000
DTSTAMP:20260423T121624
CREATED:20240916T145151Z
LAST-MODIFIED:20240916T200331Z
UID:1081-1727514900-1727542800@aneri.isialab.it
SUMMARY:TREKKING DELLE SIGARAIE DA SANT’ORSOLA ALLA MANIFATTURA TABACCHI | DIALOGHI URBANI
DESCRIPTION:Dialoghi Urbani è una grande opportunità di conversazione a livello cittadino che riunisce prospettive e voci diverse sul tema dello spazio urbano e della sua evoluzione\, coinvolgendo attivamente il pubblico attraverso la lettura\, la scrittura\, il racconto audio e visivo. Per il 2024\, il tema centrale dell’evento è il recupero dello spazio urbano attraverso la raccolta di memorie e la narrazione comunitaria. La memoria diventa uno strumento di rigenerazione urbana e sociale attraverso i libri\, la lettura e le narrazioni orali e scritte. È un metodo per riscoprire e ripensare la città coinvolgendo la comunità\, incoraggiando nuove forme di resistenza individuale e collettiva. Il programma è organizzato dalle Biblioteche Comunali di Firenze in collaborazione con la rete del Patto per la lettura di Firenze. \nSabato 28 settembre il programma farà tappa in Manifattura con l’iniziativa Trekking delle Sigaraie – Da Sant’Orsola a Manifattura Tabacchi.\nOre 9.15\nTrekking: tre tappe lungo la storia delle sigaraie fiorentine: Sant’Orsola\, San Pancrazio e Manifattura Tabacchi. \n12.30\nPresentazione di Camminare la Storia (Isrpt Editore\, 2023) a cura di Stefano Bartolini (Fondazione Valore Lavoro – Archivio Storico CGIL Toscana). In collaborazione con Fulvia Alidori (curatrice del progetto “Memorie di Resistenza Fiorentina”)\, Museo di Sant’Orsola\, Museo Marino Marini Firenze e Manifattura Tabacchi. L’evento prevede letture a cura dell’associazione LaAV (Letture ad Alta Voce)\, sezione di Firenze. \n14.30\nVisita guidata della Manifattura Tabacchi
URL:https://aneri.isialab.it/lungarno/agenda/trekking-delle-sigaraie-da-santorsola-alla-manifattura-tabacchi-dialoghi-urbani/
LOCATION:Manifattura Tabacchi\, Firenze\, Italy
ATTACH;FMTTYPE=image/jpeg:https://aneri.isialab.it/lungarno/wp-content/uploads/2024/09/1_trekking2-1.jpg
END:VEVENT
END:VCALENDAR