BEGIN:VCALENDAR
VERSION:2.0
PRODID:-//Lungarno Magazine - ECPv6.6.4.2//NONSGML v1.0//EN
CALSCALE:GREGORIAN
METHOD:PUBLISH
X-WR-CALNAME:Lungarno Magazine
X-ORIGINAL-URL:https://aneri.isialab.it/lungarno
X-WR-CALDESC:Eventi per Lungarno Magazine
REFRESH-INTERVAL;VALUE=DURATION:PT1H
X-Robots-Tag:noindex
X-PUBLISHED-TTL:PT1H
BEGIN:VTIMEZONE
TZID:Europe/Rome
BEGIN:DAYLIGHT
TZOFFSETFROM:+0100
TZOFFSETTO:+0200
TZNAME:CEST
DTSTART:20240331T010000
END:DAYLIGHT
BEGIN:STANDARD
TZOFFSETFROM:+0200
TZOFFSETTO:+0100
TZNAME:CET
DTSTART:20241027T010000
END:STANDARD
END:VTIMEZONE
BEGIN:VEVENT
DTSTART;TZID=Europe/Rome:20240924T144500
DTEND;TZID=Europe/Rome:20240924T180000
DTSTAMP:20260423T165014
CREATED:20240916T153044Z
LAST-MODIFIED:20240916T153044Z
UID:1127-1727189100-1727200800@aneri.isialab.it
SUMMARY:INAUGURAZIONE MOSTRA AYDAN UĞUR ÜNAL. LE ANTICHE RISONANZE DI ISTANBUL
DESCRIPTION:Dal 24 settembre al 6 ottobre 2024 a Firenze\, in occasione della 33a edizione della BIAF Biennale Internazionale dell’Antiquariato\, si terrà al Museo Bellini in Lungarno Soderini\, che si trova proprio di fronte a Palazzo Corsini sede della Biennale\, la mostra Aydan Ugur Ünal. Le Antiche Risonanze di Istanbul. \nNelle circa trenta opere qui presentate Aydan ci guida attraverso una finestra aperta dalla filosofia di Leibniz e Deleuze e\, con il suo stile unico che ha chiamato AydanSabb\, ci mostra tracce del glorioso passato che emerge dalle profondità antiche di Istanbul. I suoi lavori combinano tessuti storici con filosofia e mitologia\, creando un’opera musicale che è una fusione di tutti questi elementi. \nLe vibrazioni cromatiche nei suoi dipinti\, attraversando la ciclicità dinamica delle curve barocche\, danno al visitatore la sensazione di trovarsi in un labirinto. Con le frequenze energetiche che emana\, l’artista crea fasci di forme nelle sue prospettive\, invitando chi è di fronte alla tela a scoprire costantemente nuove dimensioni. \nL’artista di Istanbul\, attraverso il suo stile scoperto nel suo mondo interiore\, riesce a trasmettere il piacere di estrarre nuovi epici racconti dal tema della sua mostra. Con i suoi dipinti ad olio\, rivoluziona la Regina delle Città\, Istanbul\, unendo mari e continenti\, offrendo così una visione delle antiche civiltà. Dipinge le vibrazioni della storia antica\, aggiungendo elementi della mitologia anatolica per creare un vento fantastico di Asia Minore che attraversa la sua esposizione\, evocando un senso di mistero e incanto.
URL:https://aneri.isialab.it/lungarno/agenda/inaugurazione-mostra-aydan-ugur-unal-le-antiche-risonanze-di-istanbul/
LOCATION:Museo Bellini\, Lungarno Soderini 5\, Firenze\, 50124\, Italy
ATTACH;FMTTYPE=image/jpeg:https://aneri.isialab.it/lungarno/wp-content/uploads/2024/09/aydan-ugur-unal-le-antiche-risonanze-di-istanbul_00-1.jpg
END:VEVENT
END:VCALENDAR