BEGIN:VCALENDAR
VERSION:2.0
PRODID:-//Lungarno Magazine - ECPv6.6.4.2//NONSGML v1.0//EN
CALSCALE:GREGORIAN
METHOD:PUBLISH
X-WR-CALNAME:Lungarno Magazine
X-ORIGINAL-URL:https://aneri.isialab.it/lungarno
X-WR-CALDESC:Eventi per Lungarno Magazine
REFRESH-INTERVAL;VALUE=DURATION:PT1H
X-Robots-Tag:noindex
X-PUBLISHED-TTL:PT1H
BEGIN:VTIMEZONE
TZID:Europe/Rome
BEGIN:DAYLIGHT
TZOFFSETFROM:+0100
TZOFFSETTO:+0200
TZNAME:CEST
DTSTART:20240331T010000
END:DAYLIGHT
BEGIN:STANDARD
TZOFFSETFROM:+0200
TZOFFSETTO:+0100
TZNAME:CET
DTSTART:20241027T010000
END:STANDARD
END:VTIMEZONE
BEGIN:VEVENT
DTSTART;TZID=Europe/Rome:20240923T180000
DTEND;TZID=Europe/Rome:20240923T180000
DTSTAMP:20260423T120949
CREATED:20240916T155405Z
LAST-MODIFIED:20240916T201446Z
UID:1148-1727114400-1727114400@aneri.isialab.it
SUMMARY:LAB “FOTOGRAFIA COLONIALE E SGUARDI DECOLONIALI” | UNCOMFORTABLE TOURS VOL.3
DESCRIPTION:Uncomfortable tours vol. 3\nItinerari e narrative (dissenzienti) sul patrimonio culturale fiorentino\nUn ciclo di incontri\, visite e itinerari urbani\, curati da Stazione Utopia nell’ambito del progetto Amir accoglienza musei inclusione relazione\, che dal 2018 propone attività di mediazione museale condotte da cittadini/e con passato migratorio. Dagli archivi fotografici alla presenza di persone schiavizzate nel ‘400\, dalle comunità omossessuali fiorentine nel Rinascimento alle piante tropicali raccolte negli orti botanici\, dalle tracce della storia operaia rimosse dallo spazio pubblico\, ai segni del passato coloniale ancora presenti in città\, dalla moschea di Firenze fino alla presenza di arabi e africani nella Chiesa di Santa Maria Novella\, le visite e le passeggiate urbane condotte da persone con passato migratorio propongono narrative dissenzienti affrontando temi poco conosciuti\, storie rimosse\, pratiche sociali di sperimentazione che dai margini\, in passato come oggi sono capaci di alimentare la costruzione collettiva di immaginari e simboli per riappropriarsi di spazi e visibilità pubblici. \nFOTOGRAFIA COLONIALE E SGUARDI DECOLONIALI\nIl laboratorio è l’occasione per guardare insieme a mediatori/mediatrici Amir alcuni materiali\nfotografici relativi all’occupazione coloniale italiana in Etiopia ed Eritrea nel 1935-1936 provenienti dal fondo Carlo Guidotti\, conservato presso l’Archivio Fotografico Lucchese. Partendo dalla consapevolezza che l’archivio fotografico non è un contenitore neutro ma uno spazio in cui si accumulano storie e punti di vista\, l’incontro propone una riflessione sulla fotografia\, sul potere delle immagini e sulla costruzione di narrazioni.\nA cura di Agnese Ghezzi\, ricercatrice presso la Scuola IMT Alti Studi Lucca e storica della fotografia\, in collaborazione con il progetto Archivi in Rete.
URL:https://aneri.isialab.it/lungarno/agenda/lab-fotografia-coloniale-e-sguardi-decoloniali-uncomfortable-tours-vol-3/
LOCATION:Slataper\, Via Slataper 8\, Firenze\, 50134\, Italy
ATTACH;FMTTYPE=image/png:https://aneri.isialab.it/lungarno/wp-content/uploads/2024/09/Copia-di-unconfortable-tour-vol.3-1.png
END:VEVENT
END:VCALENDAR