BEGIN:VCALENDAR
VERSION:2.0
PRODID:-//Lungarno Magazine - ECPv6.6.4.2//NONSGML v1.0//EN
CALSCALE:GREGORIAN
METHOD:PUBLISH
X-WR-CALNAME:Lungarno Magazine
X-ORIGINAL-URL:https://aneri.isialab.it/lungarno
X-WR-CALDESC:Eventi per Lungarno Magazine
REFRESH-INTERVAL;VALUE=DURATION:PT1H
X-Robots-Tag:noindex
X-PUBLISHED-TTL:PT1H
BEGIN:VTIMEZONE
TZID:Europe/Rome
BEGIN:DAYLIGHT
TZOFFSETFROM:+0100
TZOFFSETTO:+0200
TZNAME:CEST
DTSTART:20240331T010000
END:DAYLIGHT
BEGIN:STANDARD
TZOFFSETFROM:+0200
TZOFFSETTO:+0100
TZNAME:CET
DTSTART:20241027T010000
END:STANDARD
END:VTIMEZONE
BEGIN:VEVENT
DTSTART;TZID=Europe/Rome:20240922T190000
DTEND;TZID=Europe/Rome:20240922T190000
DTSTAMP:20260423T121109
CREATED:20240916T172340Z
LAST-MODIFIED:20240916T180454Z
UID:1165-1727031600-1727031600@aneri.isialab.it
SUMMARY:CO.LORE PRESENTA: LIN LIVE
DESCRIPTION:Collettivo Loredana è un collettivo che nasce dalla volontà di unire in un unico contenitore: passione\, talento e opportunità.\nÈ una community che permette alle donne di esprimere la propria creatività\, che sia essa musicale\, visiva o performativa.\nL’obiettivo di Co.Lore è quello di sviluppare un network di professioniste\, una piattaforma che permetta loro di cooperare e confrontarsi. \n5 in 1. Batteria\, sintetizzatore\, chitarra\, basso e voce. LIN è più di un artista solista\, LIN è una band solista. Da pedaliere\, cavi\, loop station e strumenti ha costruito una cabina di pilotaggio per i concerti\, con la quale crea un suono che naviga di genere in genere tra le sfere dell’electro e del pop. Multi-strato\, ricco di dettagli e intenso. Le canzoni in lingua inglese non sono solo ballabili\, ma anche esplicitamente politiche. Nei suoi testi\, l’artista queer mette in scena un mondo in cui le norme sociali vengono infrante e reimpostate. “Abbiamo bisogno di nuove norme”\, chiede LIN. Nei suoi spettacoli dal vivo\, l’artista travolge letteralmente il pubblico\, come lo slancio di un’onda sferica in cui l’energia si diffonde in cerchi sempre più ampi.
URL:https://aneri.isialab.it/lungarno/agenda/co-lore-presenta-lin-live/
LOCATION:Fiorino sull’Arno\, Lungarno Guglielmo Pecori Giraldi\, Firenze\, 50126\, Italy
ATTACH;FMTTYPE=image/jpeg:https://aneri.isialab.it/lungarno/wp-content/uploads/2024/09/ab67616100005174502ec0566892a9a843616d17.jpeg
END:VEVENT
BEGIN:VEVENT
DTSTART;TZID=Europe/Rome:20240922T210000
DTEND;TZID=Europe/Rome:20240922T210000
DTSTAMP:20260423T121109
CREATED:20240916T210122Z
LAST-MODIFIED:20240916T210149Z
UID:1253-1727038800-1727038800@aneri.isialab.it
SUMMARY:MARTA DEL GRANDI - SELVA | FABBRICA EUROPA
DESCRIPTION:Nell’ambito del Festival Fabbrica Europa 2024 \nMarta Del Grandi è una cantautrice italiana. Musicista di formazione jazzistica\, studia al Conservatorio G. Verdi di Milano e in Belgio presso il Royal Conservatory of Ghent.\nGuidata da una forte passione per il viaggio e per la scoperta di luoghi e culture diverse\, si trasferisce prima in Cina e poi in Nepal\, dove si ferma per due anni a Kathmandu.\nVivere in un luogo così diverso e farne una conoscenza profonda influenza il suo sguardo sul mondo così come la sua musica e i testi che scrive per il suo debutto solista “Until We Fossilize” (2021). Il disco\, uscito per l’etichetta britannica Fire Records\, è un lavoro di avant-pop che vede coesistere stilemi folk-rock\, atmosfere Lynchiane e arrangiamenti cinematici che ricordano le colonne sonore di Ennio Morricone. \nNel 2023 è la volta di “Selva” (Fire Records)\, una suite di avant-pop intrigante\, che unisce sfaccettature emotive\, arrangiamenti elettro-acustici e un approccio sperimentale alla forma canzone. Se già “Until We Fossilize” mostrava tutte le qualità che contraddistinguono la cantautrice\, in punta di piedi tra il candore etereo di Julia Holter\, la sensualità nordica di Bjork e le colonne sonore di Morricone\, questo nuovo lavoro scava più a fondo nel sottobosco\, mostrando l’ambizione di creare un universo completamente nuovo\, che si fonda sulla forza della sua voce\, e collocandola tra i talenti emergenti del panorama musicale italiano.
URL:https://aneri.isialab.it/lungarno/agenda/concerto-marta-del-grandi-selva-fabbrica-europa/
LOCATION:Parc Performing Arts Research Centre\, Piazzale delle Cascine 4/5/7\, Firenze\, 50144\, Italy
ATTACH;FMTTYPE=image/jpeg:https://aneri.isialab.it/lungarno/wp-content/uploads/2024/09/MDG-3-Ph.-Cecilia-Fornari-1-759x500-1.jpg
END:VEVENT
END:VCALENDAR