BEGIN:VCALENDAR
VERSION:2.0
PRODID:-//Lungarno Magazine - ECPv6.6.4.2//NONSGML v1.0//EN
CALSCALE:GREGORIAN
METHOD:PUBLISH
X-ORIGINAL-URL:https://aneri.isialab.it/lungarno
X-WR-CALDESC:Eventi per Lungarno Magazine
REFRESH-INTERVAL;VALUE=DURATION:PT1H
X-Robots-Tag:noindex
X-PUBLISHED-TTL:PT1H
BEGIN:VTIMEZONE
TZID:Europe/Rome
BEGIN:DAYLIGHT
TZOFFSETFROM:+0100
TZOFFSETTO:+0200
TZNAME:CEST
DTSTART:20240331T010000
END:DAYLIGHT
BEGIN:STANDARD
TZOFFSETFROM:+0200
TZOFFSETTO:+0100
TZNAME:CET
DTSTART:20241027T010000
END:STANDARD
END:VTIMEZONE
BEGIN:VEVENT
DTSTART;TZID=Europe/Rome:20240916T180000
DTEND;TZID=Europe/Rome:20240916T223000
DTSTAMP:20260423T121820
CREATED:20240916T211053Z
LAST-MODIFIED:20240916T211115Z
UID:1260-1726509600-1726525800@aneri.isialab.it
SUMMARY:INCONTRO CON ROBERT GUÈDIGUIAN + PROEIZIONE A L’ATTAQUE!
DESCRIPTION:Torna a Firenze la rassegna cinematografica ‘Ciak sul lavoro’\, organizzata da Filcams Cgil Toscana\, Filcams-Cgil Firenze e associazione Anémic. La rassegna\, intitolata ‘Di Lotta e Resistenza’\, è dedicata a Robert Guédiguian\, regista militante francese che ha sempre messo il lavoro e le lotte per i diritti ad esso collegati al centro del suo cinema. \nIn programma la proiezione di sei film in versione originale con sottotitoli\, dal 16 settembre al 3 ottobre\, tra Istituto Francese\, cinema La Compagnia e Spazio Alfieri. Si parte con la proiezione lunedì 16 settembre alle 21 all’Istituto Francese di A L’Attaque! (ingresso gratuito)\, alla presenza di Robert Guédiguian\, che parteciperà anche il giorno successivo\, sempre alle 21\, ma al cinema La Compagnia alla proiezione di Et La Fête Continue!. Allo Spazio Alfieri saranno proiettati poi La Villa (23/9)\, Gloria Mundi (26/9)\, Marius et Jeannette (30/9) e Les Neiges Du Kilimandjaro (3/10).
URL:https://aneri.isialab.it/lungarno/agenda/incontro-con-robert-guediguian-proeizione-a-lattaque/
LOCATION:Palazzo Lenzi\, Borgo Pinti 27\, Firenze\, 50121\, Italy
ATTACH;FMTTYPE=image/jpeg:https://aneri.isialab.it/lungarno/wp-content/uploads/2024/09/1567894481933_0620x0413_0x18x1000x666_1679321276240.jpg
END:VEVENT
END:VCALENDAR