BEGIN:VCALENDAR
VERSION:2.0
PRODID:-//Lungarno Magazine - ECPv6.6.4.2//NONSGML v1.0//EN
CALSCALE:GREGORIAN
METHOD:PUBLISH
X-ORIGINAL-URL:https://aneri.isialab.it/lungarno
X-WR-CALDESC:Eventi per Lungarno Magazine
REFRESH-INTERVAL;VALUE=DURATION:PT1H
X-Robots-Tag:noindex
X-PUBLISHED-TTL:PT1H
BEGIN:VTIMEZONE
TZID:Europe/Rome
BEGIN:DAYLIGHT
TZOFFSETFROM:+0100
TZOFFSETTO:+0200
TZNAME:CEST
DTSTART:20240331T010000
END:DAYLIGHT
BEGIN:STANDARD
TZOFFSETFROM:+0200
TZOFFSETTO:+0100
TZNAME:CET
DTSTART:20241027T010000
END:STANDARD
END:VTIMEZONE
BEGIN:VEVENT
DTSTART;TZID=Europe/Rome:20240915T170000
DTEND;TZID=Europe/Rome:20240915T210000
DTSTAMP:20260423T123257
CREATED:20240916T200200Z
LAST-MODIFIED:20240916T200200Z
UID:1236-1726419600-1726434000@aneri.isialab.it
SUMMARY:CRISTINA KRISTAL RIZZO – “MONUMENTUM THE SECOND SLEEP / PRIMA PARTE\, IL SOLO”
DESCRIPTION:Monumentum sta come: memoria\, documento\, segno di riconoscimento\, qualcosa che viene dal passato. Qualcosa che si sofferma e che fermando la progressione continua del flusso produttivo si sposta nella profondità della memoria\, in una sorta di anacronismo temporale. \nCristina Kristal Rizzo arriva al Teatro del Maggio con  MONUMENTUM the second sleep prima parte/il solo\, lavoro in site specific ripensato per gli spazi del Padiglione d’Arte Contemporanea di Milano. Attraversato da visioni oniriche e da esperienze corporali non verbali\, come le pratiche di ipnosi guidata\, questa prima parte ha un andamento racchiuso in un solo danzato da Megumi Eda\, già storica danzatrice di Karole Armitage e interprete dai risvolti espressivi taglienti e neo classici. Un corpo\, dunque\, in uno slancio vitale\, nel tentativo di aprire altri piani della memoria e riconnettersi alla propria storia. C’è sempre una certa delicatezza nell’affrontare la solitudine di un corpo\, a dispetto della solidificazione quantitativa è possibile comprendere che la materia non è stupida\, né cieca\, né meccanica\, ma che ha un ritmo\, un linguaggio\, un movimento interno e una propria organizzazione: un feeling. \nProduzione: TIR Danza\nCoproduzione: Torinodanza Festival\nCon il sostegno di Lugano Dance Project. \nNell’ambito di Fabbrica Europa 2024.\nIn collaborazione con Fondazione Teatro del Maggio Musicale Fiorentino.
URL:https://aneri.isialab.it/lungarno/agenda/cristina-kristal-rizzo-monumentum-the-second-sleep-prima-parte-il-solo-2/
LOCATION:Teatro del Maggio Musicale Fiorentino\, Piazza Vittorio Gui 1\, Firenze\, 50144\, Italy
ATTACH;FMTTYPE=image/jpeg:https://aneri.isialab.it/lungarno/wp-content/uploads/2024/09/evento-4-copia.jpg
END:VEVENT
END:VCALENDAR