BEGIN:VCALENDAR
VERSION:2.0
PRODID:-//Lungarno Magazine - ECPv6.6.4.2//NONSGML v1.0//EN
CALSCALE:GREGORIAN
METHOD:PUBLISH
X-ORIGINAL-URL:https://aneri.isialab.it/lungarno
X-WR-CALDESC:Eventi per Lungarno Magazine
REFRESH-INTERVAL;VALUE=DURATION:PT1H
X-Robots-Tag:noindex
X-PUBLISHED-TTL:PT1H
BEGIN:VTIMEZONE
TZID:Europe/Rome
BEGIN:DAYLIGHT
TZOFFSETFROM:+0100
TZOFFSETTO:+0200
TZNAME:CEST
DTSTART:20240331T010000
END:DAYLIGHT
BEGIN:STANDARD
TZOFFSETFROM:+0200
TZOFFSETTO:+0100
TZNAME:CET
DTSTART:20241027T010000
END:STANDARD
END:VTIMEZONE
BEGIN:VEVENT
DTSTART;TZID=Europe/Rome:20240912T190000
DTEND;TZID=Europe/Rome:20240912T213000
DTSTAMP:20260423T122056
CREATED:20240916T211313Z
LAST-MODIFIED:20240916T211313Z
UID:1264-1726167600-1726176600@aneri.isialab.it
SUMMARY:GIUSEPPE VERDI – LA TRAVIATA
DESCRIPTION:Alla Cattedrale dell’Immagine di Firenze arriva uno spettacolo immersivo ispirato alla “Traviata” di Giuseppe Verdi. Dal 4 aprile al 26 settembre i visitatori potranno immergersi nella tormentata storia d’amore tra Violetta e Alfredo\, grazie all’installazione multimediale creata appositamente per gli spazi dell’ex chiesa. \nL’OPERA DI GIUSEPPE VERDI IN VERSIONE IMMERSIVA\nIl capolavoro di Giuseppe Verdi su libretto di Francesco Maria Piave viene messo in scena con l’allestimento e la regia di Nicola Fanucchi\, e con la direzione artistica di Mario Menicagli. \nLo spettacolo – narrato dalla voce di Paolo Noseda – propone ai visitatori le arie più famose del compositore\, arricchite da videoinstallazioni create appositamente per gli spazi dell’ex cattedrale\, progettati da Crossmedia. L’esperienza immersiva coinvolge quindi il visitatore nella storia di Violetta e del suo amore per Alfredo\, che la consuma ma al tempo stesso la tiene in vita.
URL:https://aneri.isialab.it/lungarno/agenda/giuseppe-verdi-la-traviata-3/
LOCATION:Cattedrale dell’Immagine\, Piazza di Santo Stefano\, Firenze\, 50122\, Italy
ATTACH;FMTTYPE=image/jpeg:https://aneri.isialab.it/lungarno/wp-content/uploads/2024/09/432462348_301121646329442_7538310068988027152_n.jpg
END:VEVENT
END:VCALENDAR