BEGIN:VCALENDAR
VERSION:2.0
PRODID:-//Lungarno Magazine - ECPv6.6.4.2//NONSGML v1.0//EN
CALSCALE:GREGORIAN
METHOD:PUBLISH
X-ORIGINAL-URL:https://aneri.isialab.it/lungarno
X-WR-CALDESC:Eventi per Lungarno Magazine
REFRESH-INTERVAL;VALUE=DURATION:PT1H
X-Robots-Tag:noindex
X-PUBLISHED-TTL:PT1H
BEGIN:VTIMEZONE
TZID:Europe/Rome
BEGIN:DAYLIGHT
TZOFFSETFROM:+0100
TZOFFSETTO:+0200
TZNAME:CEST
DTSTART:20240331T010000
END:DAYLIGHT
BEGIN:STANDARD
TZOFFSETFROM:+0200
TZOFFSETTO:+0100
TZNAME:CET
DTSTART:20241027T010000
END:STANDARD
END:VTIMEZONE
BEGIN:VEVENT
DTSTART;TZID=Europe/Rome:20240907T200000
DTEND;TZID=Europe/Rome:20240907T200000
DTSTAMP:20260423T130321
CREATED:20240916T212022Z
LAST-MODIFIED:20240916T212102Z
UID:1268-1725739200-1725739200@aneri.isialab.it
SUMMARY:GABBER ELEGANZA | LIVE ROCK FESTIVAL
DESCRIPTION:Il LIVE ROCK FESTIVAL\, giunto alla 24° edizione\, è ormai uno tra festival più apprezzati e autorevoli d’Italia. 5 serate\, oltre 100 gli artisti che ogni anno si alternano sul palco di Acquaviva. Rock e avanguardia\, elettronica e world music\, reggae e tradizione popolare\, blues e jazz: il percorso musicale della rassegna privilegia le produzioni originali\, i progetti internazionali\, le nuove tecnologie e le radici etniche. \nGabber Eleganza nasce come un archivio digitale curato che si è rapidamente trasformato in un progetto poliedrico con collegamenti all’arte\, alla moda\, alla musica e alla cultura. Lo scopo del progetto è costruire un ponte tra il panorama sonoro e il lato estetico delle culture hardcore e post-rave e la cultura contemporanea attraverso pubblicazioni stampate\, musica\, installazioni e performance dal vivo.
URL:https://aneri.isialab.it/lungarno/agenda/gabber-eleganza-live-rock-festival/
LOCATION:Giardini Ex Fierale Acquaviva\, Giardini Ex Fierale Acquaviva\, Montepulciano (SI)\, 53045\, Italy
ATTACH;FMTTYPE=image/jpeg:https://aneri.isialab.it/lungarno/wp-content/uploads/2024/09/1515416151_21052024164254.jpg
END:VEVENT
END:VCALENDAR