BEGIN:VCALENDAR
VERSION:2.0
PRODID:-//Lungarno Magazine - ECPv6.6.4.2//NONSGML v1.0//EN
CALSCALE:GREGORIAN
METHOD:PUBLISH
X-ORIGINAL-URL:https://aneri.isialab.it/lungarno
X-WR-CALDESC:Eventi per Lungarno Magazine
REFRESH-INTERVAL;VALUE=DURATION:PT1H
X-Robots-Tag:noindex
X-PUBLISHED-TTL:PT1H
BEGIN:VTIMEZONE
TZID:Europe/Rome
BEGIN:DAYLIGHT
TZOFFSETFROM:+0100
TZOFFSETTO:+0200
TZNAME:CEST
DTSTART:20240331T010000
END:DAYLIGHT
BEGIN:STANDARD
TZOFFSETFROM:+0200
TZOFFSETTO:+0100
TZNAME:CET
DTSTART:20241027T010000
END:STANDARD
END:VTIMEZONE
BEGIN:VEVENT
DTSTART;TZID=Europe/Rome:20240902T210000
DTEND;TZID=Europe/Rome:20240902T223000
DTSTAMP:20260423T123221
CREATED:20240916T181117Z
LAST-MODIFIED:20240916T201007Z
UID:1189-1725310800-1725316200@aneri.isialab.it
SUMMARY:SABINA GUZZANTI - LIBERIDÌ LIBERIDÀ
DESCRIPTION:Da ormai un paio d’anni\, Sabina Guzzanti\, figlia\, sorella e soprattutto madre di tanti orfani dei bei tempi andati\, si dedica al dialogo sia con Meloni che con Schlein\, con l’unico obiettivo di attenuare il danno. Un lavoro impegnativo\, spesso estenuante\, portatoavanti con abnegazione e sacrificio e senza che nulla gliene venga in tasca. Di qui l’idea di cominciare a monetizzare questa attività con una serie di conferenze spettacolo\, che i giovani d’oggi chiamano stand up comedy\, sul nostro presente travagliato. Ovviamente non si parlerà solo di politica ma anche di argomenti veramente importanti come lo sviluppo tecnologico in mano a 4 esaltati irresponsabili e più in generale di come conservare una qualche forma di dignità nel 21^ secolo.
URL:https://aneri.isialab.it/lungarno/agenda/sabina-guzzanti-liberidi-liberida/
LOCATION:Teatro Romano di Fiesole\, Via Portigiani 1\, Fiesole\, 50014\, Italy
ATTACH;FMTTYPE=image/jpeg:https://aneri.isialab.it/lungarno/wp-content/uploads/2024/09/teatroit-liberidi-liberida-sabina-guzzanti-date-biglietti-01.jpg
END:VEVENT
END:VCALENDAR