BEGIN:VCALENDAR
VERSION:2.0
PRODID:-//Lungarno Magazine - ECPv6.6.4.2//NONSGML v1.0//EN
CALSCALE:GREGORIAN
METHOD:PUBLISH
X-ORIGINAL-URL:https://aneri.isialab.it/lungarno
X-WR-CALDESC:Eventi per Lungarno Magazine
REFRESH-INTERVAL;VALUE=DURATION:PT1H
X-Robots-Tag:noindex
X-PUBLISHED-TTL:PT1H
BEGIN:VTIMEZONE
TZID:Europe/Rome
BEGIN:DAYLIGHT
TZOFFSETFROM:+0100
TZOFFSETTO:+0200
TZNAME:CEST
DTSTART:20240331T010000
END:DAYLIGHT
BEGIN:STANDARD
TZOFFSETFROM:+0200
TZOFFSETTO:+0100
TZNAME:CET
DTSTART:20241027T010000
END:STANDARD
END:VTIMEZONE
BEGIN:VEVENT
DTSTART;TZID=Europe/Rome:20240901T200000
DTEND;TZID=Europe/Rome:20240901T200000
DTSTAMP:20260423T121456
CREATED:20240916T174320Z
LAST-MODIFIED:20240916T201038Z
UID:1174-1725220800-1725220800@aneri.isialab.it
SUMMARY:TRIPOLARE + ZEBRA TSO + PIANETA PAPAVERO | LASCIATI FIORIRE
DESCRIPTION:Un Fiore sul Vulcano. Non è la ginestra di leopardiana memoria\, alle pendici del Vesuvio\, ma il collettivo di giovani artisti fiorentini che dal 2015 si occupa di produzione musicale\, promozione e organizzazione di eventi culturali. Un cocktail di estro\, fantasia e creatività che anima da tre anni lo spazio verde e ricreativo della Limonaia di Villa Strozzi\, uno dei luoghi più frequentati dell’Estate Fiorentina. \n“Lasciati fiorire” è il titolo della rassegna di musica\, talk e vintage market in programma dal 30 agosto al 1 settembre: una tre giorni di ospiti e iniziative. Il festival si conclude domenica nel segno dello sperimentalismo del collettivo urban fiorentino Pianeta Papavero\, l’irruenza cruda ed energica degli Zebra TSO\, e il cantautorato generazionale di Gabriele Centurione\, alias Tripolare\, che racconta il passaggio dall’adolescenza all’età adulta.
URL:https://aneri.isialab.it/lungarno/agenda/tripolare-zebra-tso-pianeta-papavero-lasciati-fiorire/
LOCATION:Limonaia di Villa Strozzi\, Via Pisana 77\, Firenze\, 50143\, Italy
ATTACH;FMTTYPE=image/jpeg:https://aneri.isialab.it/lungarno/wp-content/uploads/2024/09/1514916151_10072024163549.jpg
END:VEVENT
BEGIN:VEVENT
DTSTART;TZID=Europe/Rome:20240901T210000
DTEND;TZID=Europe/Rome:20240901T230000
DTSTAMP:20260423T121456
CREATED:20240916T172952Z
LAST-MODIFIED:20240916T202256Z
UID:1170-1725224400-1725231600@aneri.isialab.it
SUMMARY:GIO EVAN | BEAT FESTIVAL
DESCRIPTION:Il Beat Festival è uno dei festival toscani con il maggior numero di presenze di pubblico. Nato nel 2015 ha incrementato il proprio pubblico fino a superare le 130.000 presenze nell’edizione 2023. E’ un festival unico e originale che si svolge nel fantastico Parco di Serravalle proponendo un mix di contenuti: musica\, food\, showcases\, handmade market\, dj set e moltissimo altro. \nDopo i live già annunciati di Fulminacci\, Marlene Kuntz\, Silent Bob e Sick Budd Beat si prepara ad ospitare un altro interessante artista italiano. Domenica 1 Settembre salirà sul palco di Beat Gio Evan\, artista poliedrico\, scrittore e poeta\, filosofo\, umorista\, performer\, cantautore e artista di strada. Dopo un’eccezionale serie di 16 sold out su 16 date del suo tour teatrale “Fragile/Inossidabile”\, Gio Evan è pronto a tornare sul palco con “Moksa Bar”\, un vero lido itinerante\, uno spettacolo che vive nelle ambientazioni estive\, storie di bagnanti\, di salvataggio\, di sole da prendere e di sole da rendere\, di mari così belli da rivedere e mari assolutamente da rivedere. \nMusica\, Stand up comedy e Poesia ancora una volta in un unico formato conviviale per un’estate diversamente divertente e riflessiva. Ciò che rende davvero speciale lo spettacolo live di Gio Evan è la sua capacità di giocare con le parole e i concetti visionari raggiungendo profondità ma allo stesso tempo nuove altezze e dando al pubblico una nuova prospettiva sulla vita e sulle emozioni. Attraverso le sue parole e la sua musica\, Evan esplora temi universali come l’amore\, la perdita\, la resilienza\, la speranza\, l’essere\, toccando le corde emotive degli spettatori in modo autentico e profondo. Ogni spettacolo è un’esperienza unica e coinvolgente\, che lascia il pubblico con un senso di meraviglia e ispirazione. \nI biglietti per il concerto di Gio Evan sono in vendita al prezzo di 20 euro (diritti di prevendita inclusi) circuiti Ticketone\, Tickemaster e Viavticket.
URL:https://aneri.isialab.it/lungarno/agenda/gio-evan-beat-festival/
LOCATION:Parco di Serravalle\, Via Serravalle a S. Martino\, Empoli\, 50053\, Italy
ATTACH;FMTTYPE=image/jpeg:https://aneri.isialab.it/lungarno/wp-content/uploads/2024/09/GIOEVAN-Articolo.jpg
END:VEVENT
END:VCALENDAR